BEGIN:VCALENDAR
VERSION:2.0
PRODID:-//AIA Baltimore/Baltimore Architecture Foundation - ECPv5.14.1//NONSGML v1.0//EN
CALSCALE:GREGORIAN
METHOD:PUBLISH
X-WR-CALNAME:AIA Baltimore/Baltimore Architecture Foundation
X-ORIGINAL-URL:https://baltimorearchitecturefoundation.org
X-WR-CALDESC:Events for AIA Baltimore/Baltimore Architecture Foundation
REFRESH-INTERVAL;VALUE=DURATION:PT1H
X-Robots-Tag:noindex
X-PUBLISHED-TTL:PT1H
BEGIN:VTIMEZONE
TZID:America/New_York
BEGIN:DAYLIGHT
TZOFFSETFROM:-0500
TZOFFSETTO:-0400
TZNAME:EDT
DTSTART:20210314T070000
END:DAYLIGHT
BEGIN:STANDARD
TZOFFSETFROM:-0400
TZOFFSETTO:-0500
TZNAME:EST
DTSTART:20211107T060000
END:STANDARD
END:VTIMEZONE
BEGIN:VEVENT
DTSTART;TZID=America/New_York:20210304T083000
DTEND;TZID=America/New_York:20210304T093000
DTSTAMP:20260425T063615
CREATED:20210218T162549Z
LAST-MODIFIED:20210218T180341Z
UID:26310-1614846600-1614850200@baltimorearchitecturefoundation.org
SUMMARY:2021 Economic Aid Act Impact on Small Businesses (Better Business Bureau)
DESCRIPTION:The Consolidated Appropriations Act of 2021 has wide-ranging impacts on individuals and small businesses for this year and beyond\, as well as retroactively for 2020. \nMany business leaders have questions regarding how this legislation affects them and what they can do to leverage the financial opportunities within the new laws. \nRepresentatives from the BBB Accredited accounting firm\, KatzAbosch\, will explore: \n\nHow the Act affects individuals\, including unemployment benefits\, charitable deductions\, and expanded tax credits\nTax strategies for your business to accommodate these new legislative opportunities\nAbout the Employee Retention Tax Credit for businesses\, now available to PPP borrowers\nDocumentation best practices to mitigate issues for PPP compliance and reporting\n\nCome ask questions and learn about how this legislation could benefit your business’s financial future. \nREGISTER HERE
URL:https://baltimorearchitecturefoundation.org/event/2021-economic-aid-act-impact-on-small-businesses-better-business-bureau/
CATEGORIES:Webinars
ATTACH;FMTTYPE=image/jpeg:https://baltimorearchitecturefoundation.org/wp-content/uploads/2021/02/78bdd471-d692-4818-9b09-599d4888d950.jpg
END:VEVENT
END:VCALENDAR