BEGIN:VCALENDAR
VERSION:2.0
PRODID:-//AIA Baltimore/Baltimore Architecture Foundation - ECPv5.14.1//NONSGML v1.0//EN
CALSCALE:GREGORIAN
METHOD:PUBLISH
X-WR-CALNAME:AIA Baltimore/Baltimore Architecture Foundation
X-ORIGINAL-URL:https://baltimorearchitecturefoundation.org
X-WR-CALDESC:Events for AIA Baltimore/Baltimore Architecture Foundation
REFRESH-INTERVAL;VALUE=DURATION:PT1H
X-Robots-Tag:noindex
X-PUBLISHED-TTL:PT1H
BEGIN:VTIMEZONE
TZID:America/New_York
BEGIN:DAYLIGHT
TZOFFSETFROM:-0500
TZOFFSETTO:-0400
TZNAME:EDT
DTSTART:20230312T070000
END:DAYLIGHT
BEGIN:STANDARD
TZOFFSETFROM:-0400
TZOFFSETTO:-0500
TZNAME:EST
DTSTART:20231105T060000
END:STANDARD
END:VTIMEZONE
BEGIN:VEVENT
DTSTART;TZID=America/New_York:20230117T163000
DTEND;TZID=America/New_York:20230117T180000
DTSTAMP:20260424T054450
CREATED:20221122T160038Z
LAST-MODIFIED:20221129T160901Z
UID:30400-1673973000-1673978400@baltimorearchitecturefoundation.org
SUMMARY:40TEN Site Tour: Baltimore's First Modern Mass Timber Construction
DESCRIPTION:Come join us for a construction walkthrough of 40Ten\, the first mass timber office building in Baltimore. We’ll talk about heavy timber structural systems\, embodied carbon impacts\, and construction methods. This building also uses one of the fist local examples of electrochromic glass. \nThis unique educational event will provide an in-depth look at Baltimore’s first modern mass timber office building. Projected to open in early 2023\, the building will feature exposed timber structure\, expansive glass lines\, 15’ high floor to ceilings\, expansive common area amenity space and a roof top deck all designed to meet the needs of the modern office environment.  The 4-story building will feature three stories of mass timber construction above a concrete podium\, with Glulam post & beam framing supporting DLT panels. \nThe Project Team\n28 Walker Development – Developer\nMoseley Architects – Architecture & MEP\nStructureCraft – Structure & Timber Build\nHarrison Acoustics – Acoustical consultant\nAbout the Stage – Lighting Consultant\nChesapeake Contracting Group – Contractor\nKimley Horn – Civil \nAfter the event\, join us at Love and Regret around the corner for a drink. \nPlease note everyone will have to sign a waiver before coming to the site (this will be emailed to all registrants). Hard hats\, vests\, and closed-toed shoes are mandatory. \n1.0 AIA LU|HSW approved \nRegister here.
URL:https://baltimorearchitecturefoundation.org/event/40ten-site-tour-baltimores-first-modern-mass-timber-construction/
LOCATION:4010 Boston Street\, Baltimore\, MD 21224\, 4010 Boston Street\, Baltimore\, MD\, 21224\, United States
CATEGORIES:Continuing Education
END:VEVENT
END:VCALENDAR