BEGIN:VCALENDAR
VERSION:2.0
PRODID:-//AIA Baltimore/Baltimore Architecture Foundation - ECPv5.14.1//NONSGML v1.0//EN
CALSCALE:GREGORIAN
METHOD:PUBLISH
X-WR-CALNAME:AIA Baltimore/Baltimore Architecture Foundation
X-ORIGINAL-URL:https://baltimorearchitecturefoundation.org
X-WR-CALDESC:Events for AIA Baltimore/Baltimore Architecture Foundation
REFRESH-INTERVAL;VALUE=DURATION:PT1H
X-Robots-Tag:noindex
X-PUBLISHED-TTL:PT1H
BEGIN:VTIMEZONE
TZID:America/New_York
BEGIN:DAYLIGHT
TZOFFSETFROM:-0500
TZOFFSETTO:-0400
TZNAME:EDT
DTSTART:20240310T070000
END:DAYLIGHT
BEGIN:STANDARD
TZOFFSETFROM:-0400
TZOFFSETTO:-0500
TZNAME:EST
DTSTART:20241103T060000
END:STANDARD
END:VTIMEZONE
BEGIN:VEVENT
DTSTART;TZID=America/New_York:20240511T100000
DTEND;TZID=America/New_York:20240511T120000
DTSTAMP:20260423T200138
CREATED:20240506T193919Z
LAST-MODIFIED:20240506T193919Z
UID:33454-1715421600-1715428800@baltimorearchitecturefoundation.org
SUMMARY:Achieving Registration Together: ARE 5.0 Study Session - Project AND Practice Management
DESCRIPTION:Preparing for the AREs? You are not alone! Register here to join AIA Baltimore’s Emerging Professionals for ARE 5.0 study sessions. \nThis session will be hybrid\, offering virtual and in-person attendance options. \nAIA Baltimore’s Emerging Professionals Committee is excited to offer the Achieving Registration Together (A.R.T.) program\, a preparation series for the Architecture Registration Exam (ARE)\, taking place mid-March through May 2024. This third session will cover Practice Management and Project Management\, including an overview of the exam\, resources\, practice questions\, and study tips. Each subsequent session will focus on a different division.  \nPreparing for the AREs? Don’t know where to start or need some motivation? Looking for a study buddy or guidance from licensed peers? The ART program helps to prepare applicants for the AREs. Each session will be organized around a specific ARE 5.0 exam division and led by members of the Emerging Professionals Committee to include those who’ve recently passed exams and/or subject matter experts. Two-hour sessions will include:\n– An in-depth review of resources on specific topics including recommended chapters\, videos etc. \n– Q & A \n– Quiz Games! \nThis session will be hybrid\, offering virtual and in-person attendance options. A light breakfast and coffee will be provided for those who attend in person. In-person ticket sales end Friday\, May 10 at 4:30pm; virtual ticket sales remain open until event start.
URL:https://baltimorearchitecturefoundation.org/event/achieving-registration-together-are-5-0-study-session-project-and-practice-management/
CATEGORIES:ARE Prep
ATTACH;FMTTYPE=image/jpeg:https://baltimorearchitecturefoundation.org/wp-content/uploads/2024/05/ART-hybrid-sessions.jpg
END:VEVENT
END:VCALENDAR