BEGIN:VCALENDAR
VERSION:2.0
PRODID:-//AIA Baltimore/Baltimore Architecture Foundation - ECPv5.14.1//NONSGML v1.0//EN
CALSCALE:GREGORIAN
METHOD:PUBLISH
X-WR-CALNAME:AIA Baltimore/Baltimore Architecture Foundation
X-ORIGINAL-URL:https://baltimorearchitecturefoundation.org
X-WR-CALDESC:Events for AIA Baltimore/Baltimore Architecture Foundation
REFRESH-INTERVAL;VALUE=DURATION:PT1H
X-Robots-Tag:noindex
X-PUBLISHED-TTL:PT1H
BEGIN:VTIMEZONE
TZID:America/New_York
BEGIN:DAYLIGHT
TZOFFSETFROM:-0500
TZOFFSETTO:-0400
TZNAME:EDT
DTSTART:20230312T070000
END:DAYLIGHT
BEGIN:STANDARD
TZOFFSETFROM:-0400
TZOFFSETTO:-0500
TZNAME:EST
DTSTART:20231105T060000
END:STANDARD
END:VTIMEZONE
BEGIN:VEVENT
DTSTART;TZID=America/New_York:20230615T180000
DTEND;TZID=America/New_York:20230615T200000
DTSTAMP:20260424T003449
CREATED:20230515T211426Z
LAST-MODIFIED:20240327T160721Z
UID:31831-1686852000-1686859200@baltimorearchitecturefoundation.org
SUMMARY:Alberto Cavalieri Opening Reception
DESCRIPTION:Catalyst Contemporary and the Baltimore chapter of the American Institute of Architects partner to present sculpture by Alberto Cavalieri at the Center for Architecture and Design located at One Charles Center. The works on display come from Cavalieri’s series of twisting and elegant “Knots.” In solid cast iron and fabricated\, modular aluminum these knot sculptures take viewers on a journey through the beautiful potential of Cavalieri’s elegant forms and into the context of the much larger-scaled possibilities of architecture. The Center for Architecture and Design exhibit will feature the small-scaled minimalist style pieces. \nJoin Catalyst Contemporary and AIA Baltimore on Thursday\, June 15 6-8:00pm for an opening reception. All are welcome to attend to view and learn more about Alberto Cavalieri’s work. Wine and cheese will be provided. RSVP here.
URL:https://baltimorearchitecturefoundation.org/event/alberto-cavalieri-opening-reception/
LOCATION:AIA Baltimore & BAF Center for Architecture and Design\, 100 North Charles Street\, Baltimore\, MD\, 21201\, United States
ATTACH;FMTTYPE=image/jpeg:https://baltimorearchitecturefoundation.org/wp-content/uploads/2023/05/alberto-cavalieri.jpg
END:VEVENT
END:VCALENDAR