BEGIN:VCALENDAR
VERSION:2.0
PRODID:-//AIA Baltimore/Baltimore Architecture Foundation - ECPv5.14.1//NONSGML v1.0//EN
CALSCALE:GREGORIAN
METHOD:PUBLISH
X-WR-CALNAME:AIA Baltimore/Baltimore Architecture Foundation
X-ORIGINAL-URL:https://baltimorearchitecturefoundation.org
X-WR-CALDESC:Events for AIA Baltimore/Baltimore Architecture Foundation
REFRESH-INTERVAL;VALUE=DURATION:PT1H
X-Robots-Tag:noindex
X-PUBLISHED-TTL:PT1H
BEGIN:VTIMEZONE
TZID:America/New_York
BEGIN:DAYLIGHT
TZOFFSETFROM:-0500
TZOFFSETTO:-0400
TZNAME:EDT
DTSTART:20200308T070000
END:DAYLIGHT
BEGIN:STANDARD
TZOFFSETFROM:-0400
TZOFFSETTO:-0500
TZNAME:EST
DTSTART:20201101T060000
END:STANDARD
END:VTIMEZONE
BEGIN:VEVENT
DTSTART;TZID=America/New_York:20201130T080000
DTEND;TZID=America/New_York:20201202T170000
DTSTAMP:20260425T114855
CREATED:20201007T145653Z
LAST-MODIFIED:20201007T145653Z
UID:24075-1606723200-1606928400@baltimorearchitecturefoundation.org
SUMMARY:Architectural Workshop (Schluter Systems)
DESCRIPTION:This architectural workshop will discuss the challenges in traditional floor\, wall\, and shower applications\, and the new technologies that are now available to address these issues. \nArchitectural Workshop\n– Next Generation and curbless shower applications\n– Includes 4 AIA/IDCEC approved presentations\n– Overview of specification tools for Schluter®-Systems products\nHyatt Regency Chesapeake Bay\n100 Heron Blvd at Route 50\, Cambridge\, MD 21613\nNovember 30 – December 2\, 2020 \nIncludes\n• 2 days of seminars and demos\n• Activities\n• Meals\n• Great networking opportunities!\nItinerary\nNovember 30: Arrival day\nDecember 1: Seminars & Demos\nDecember 2: Seminars\, Demo & Departure \nRegister at SchluterEvents.com using invite code:\n20CBMD1130 \nRSVP by October 30\, 2020
URL:https://baltimorearchitecturefoundation.org/event/architectural-workshop-schluter-systems/
CATEGORIES:Partner Programs
END:VEVENT
END:VCALENDAR