BEGIN:VCALENDAR
VERSION:2.0
PRODID:-//AIA Baltimore/Baltimore Architecture Foundation - ECPv5.14.1//NONSGML v1.0//EN
CALSCALE:GREGORIAN
METHOD:PUBLISH
X-WR-CALNAME:AIA Baltimore/Baltimore Architecture Foundation
X-ORIGINAL-URL:https://baltimorearchitecturefoundation.org
X-WR-CALDESC:Events for AIA Baltimore/Baltimore Architecture Foundation
REFRESH-INTERVAL;VALUE=DURATION:PT1H
X-Robots-Tag:noindex
X-PUBLISHED-TTL:PT1H
BEGIN:VTIMEZONE
TZID:America/New_York
BEGIN:DAYLIGHT
TZOFFSETFROM:-0500
TZOFFSETTO:-0400
TZNAME:EDT
DTSTART:20220313T070000
END:DAYLIGHT
BEGIN:STANDARD
TZOFFSETFROM:-0400
TZOFFSETTO:-0500
TZNAME:EST
DTSTART:20221106T060000
END:STANDARD
END:VTIMEZONE
BEGIN:VEVENT
DTSTART;TZID=America/New_York:20220604T150000
DTEND;TZID=America/New_York:20220604T160000
DTSTAMP:20260424T092649
CREATED:20220526T134713Z
LAST-MODIFIED:20220526T142728Z
UID:29758-1654354800-1654358400@baltimorearchitecturefoundation.org
SUMMARY:Architecture Sketching in Mount Vernon Place
DESCRIPTION:Join architect and Morgan State University architecture professor\, Gabriel Kroiz\, AIA\, for a beginner sketch class\, while learning about the rich architectural history of Mount Vernon Place.  \nThis one-hour class is geared to beginners\, and to learning an “elevation”: an easy entry point to architectural drawings. We will focus on 8 West Mount Vernon Place\, pointing out the organizing grid and proportions and introducing architectural terms such as balustrade\, piano nobile\, etc. Please note: this tour will be limited to twelve participants in light of COVID-19 restrictions. Facemasks optional. \n8 West Mount Vernon Place (now the Mt Vernon Club) was built around 1842\, and is one of the oldest homes on Mount Vernon Place. \nPreviously known as the Blanchard Randall House and the Tiffany-Fisher House\, the home was built by William Tiffany\, a wealthy Baltimore commission merchant. The building is a fine example of the Greek Revival architectural style and set a high standard for the new homes being built around the Washington Monument. In 1941\, The Mount Vernon Club purchased the building\, which has housed the Club since then. \nFor more info on the history of Mount Vernon Place\, see the Mount Vernon Place Conservancy’s website. \nInstructor \nGabriel Kroiz\, AIA founder and principle of Kroiz Architecture has over 25 years of experience as an architect\, builder\, and educator. As an architect\, Kroiz’s experience includes award-winning projects in the US and Asia. As a builder\, he has focused on small\, detail intensive projects which allow for a high level of research and experimentation with materials and their application. In 2008 Kroiz joined the School of Architecture and Planning at Morgan State University as its first Program Director working to achieve the school’s missions of providing access to the design professions for underrepresented minorities and performing research focused on the redevelopment of Baltimore and the surrounding region. Kroiz is also a member of the board of directors of the Baltimore Chapter of the American Institute of Architects (AIA Baltimore). \nPlease bring:  \nA sketchbook of any size (if you have one)\, and assorted pens and pencils. There may be limited seating available in the park. You may also wish to bring a folding chair\, and bottled water. \nDon’t forget to stop by the Charles Street Promenade that will be happening all day from 9:00 am to 9:00pm on North Charles street. Find out more information here.
URL:https://baltimorearchitecturefoundation.org/event/architecture-sketching-in-mount-vernon-place-2/
END:VEVENT
END:VCALENDAR