BEGIN:VCALENDAR
VERSION:2.0
PRODID:-//AIA Baltimore/Baltimore Architecture Foundation - ECPv5.14.1//NONSGML v1.0//EN
CALSCALE:GREGORIAN
METHOD:PUBLISH
X-WR-CALNAME:AIA Baltimore/Baltimore Architecture Foundation
X-ORIGINAL-URL:https://baltimorearchitecturefoundation.org
X-WR-CALDESC:Events for AIA Baltimore/Baltimore Architecture Foundation
REFRESH-INTERVAL;VALUE=DURATION:PT1H
X-Robots-Tag:noindex
X-PUBLISHED-TTL:PT1H
BEGIN:VTIMEZONE
TZID:America/New_York
BEGIN:DAYLIGHT
TZOFFSETFROM:-0500
TZOFFSETTO:-0400
TZNAME:EDT
DTSTART:20200308T070000
END:DAYLIGHT
BEGIN:STANDARD
TZOFFSETFROM:-0400
TZOFFSETTO:-0500
TZNAME:EST
DTSTART:20201101T060000
END:STANDARD
END:VTIMEZONE
BEGIN:VEVENT
DTSTART;TZID=America/New_York:20200922T130000
DTEND;TZID=America/New_York:20200922T140000
DTSTAMP:20260425T224013
CREATED:20200717T205630Z
LAST-MODIFIED:20200717T205630Z
UID:23014-1600779600-1600783200@baltimorearchitecturefoundation.org
SUMMARY:Building a Conservation District in Brunswick (Preservation Maryland)
DESCRIPTION:The City of Brunswick is undertaking an initiative to create protections for their historic communities in the form of a Conservation District. This session will walk through what a conservation district is\, how it works to protect historic communities\, the process Brunswick went through\, and the lessons learned. \nREGISTER NOW
URL:https://baltimorearchitecturefoundation.org/event/building-a-conservation-district-in-brunswick-preservation-maryland/
CATEGORIES:Partner Programs,Webinars
END:VEVENT
END:VCALENDAR