BEGIN:VCALENDAR
VERSION:2.0
PRODID:-//AIA Baltimore/Baltimore Architecture Foundation - ECPv5.14.1//NONSGML v1.0//EN
CALSCALE:GREGORIAN
METHOD:PUBLISH
X-WR-CALNAME:AIA Baltimore/Baltimore Architecture Foundation
X-ORIGINAL-URL:https://baltimorearchitecturefoundation.org
X-WR-CALDESC:Events for AIA Baltimore/Baltimore Architecture Foundation
REFRESH-INTERVAL;VALUE=DURATION:PT1H
X-Robots-Tag:noindex
X-PUBLISHED-TTL:PT1H
BEGIN:VTIMEZONE
TZID:America/New_York
BEGIN:DAYLIGHT
TZOFFSETFROM:-0500
TZOFFSETTO:-0400
TZNAME:EDT
DTSTART:20230312T070000
END:DAYLIGHT
BEGIN:STANDARD
TZOFFSETFROM:-0400
TZOFFSETTO:-0500
TZNAME:EST
DTSTART:20231105T060000
END:STANDARD
END:VTIMEZONE
BEGIN:VEVENT
DTSTART;TZID=America/New_York:20230523T173000
DTEND;TZID=America/New_York:20230523T190000
DTSTAMP:20260424T003146
CREATED:20230426T131952Z
LAST-MODIFIED:20230503T173129Z
UID:31796-1684863000-1684868400@baltimorearchitecturefoundation.org
SUMMARY:Climate Change + Professional Liability
DESCRIPTION:  \nCome join the AIA Baltimore Committee on the Environment and Resiliency (COTE/R) and the Practice Management Committee as we watch and discuss an AIA Trust video on climate change and professional liability. \nDid you know that one of the proposed changes from the AIA Scalable Climate Action Group includes defining professional liability as including responsibility to address climate change in design? Come learn with us: What is your duty to discuss the risks of climate change with your clients\, and what are the risks if you don’t? AIA has tools available to facilitate and document this client discussion\, and a video series on potential risks. AIA also has contractual language available for insertion into standard AIA contracts. \nThe video viewing will be followed by discussion with design\, engineering\, and legal expertise. Come learn with us! Beer/soda/water\, and popcorn will be provided (And if we’re very lucky\, Ben might bring homemade ice cream!). \nThis is an AIA CES opportunity. 1.5 LU|HSW approved \nRegister here.
URL:https://baltimorearchitecturefoundation.org/event/climate-change-professional-liability/
LOCATION:The Center for Architecture and Design\, 100 N Charles St\, Baltimore\, MD\, 21218\, United States
CATEGORIES:Continuing Education
ATTACH;FMTTYPE=image/jpeg:https://baltimorearchitecturefoundation.org/wp-content/uploads/2023/04/Climate-change-professional-liability-Presentation-169-1.jpg
END:VEVENT
END:VCALENDAR