BEGIN:VCALENDAR
VERSION:2.0
PRODID:-//AIA Baltimore/Baltimore Architecture Foundation - ECPv5.14.1//NONSGML v1.0//EN
CALSCALE:GREGORIAN
METHOD:PUBLISH
X-WR-CALNAME:AIA Baltimore/Baltimore Architecture Foundation
X-ORIGINAL-URL:https://baltimorearchitecturefoundation.org
X-WR-CALDESC:Events for AIA Baltimore/Baltimore Architecture Foundation
REFRESH-INTERVAL;VALUE=DURATION:PT1H
X-Robots-Tag:noindex
X-PUBLISHED-TTL:PT1H
BEGIN:VTIMEZONE
TZID:America/New_York
BEGIN:DAYLIGHT
TZOFFSETFROM:-0500
TZOFFSETTO:-0400
TZNAME:EDT
DTSTART:20240310T070000
END:DAYLIGHT
BEGIN:STANDARD
TZOFFSETFROM:-0400
TZOFFSETTO:-0500
TZNAME:EST
DTSTART:20241103T060000
END:STANDARD
END:VTIMEZONE
BEGIN:VEVENT
DTSTART;TZID=America/New_York:20240521T173000
DTEND;TZID=America/New_York:20240521T190000
DTSTAMP:20260423T180714
CREATED:20240507T182431Z
LAST-MODIFIED:20240507T182431Z
UID:33462-1716312600-1716318000@baltimorearchitecturefoundation.org
SUMMARY:Cross Keys Redevelopment Tour
DESCRIPTION:Since James Rouse opened it in 1965\, The Village of Cross Keys has remained a premier gathering place with boutique shops\, eateries\, and a variety of local businesses. Register here to join the Baltimore Architecture Foundation for a tour of the newly revitalized areas of this historic “see and be seen” meeting spot for people around Baltimore. \nCross Keys was originally developed in 1965 by Jim Rouse\, the visionary founder of The Rouse Company. It’s a destination that evokes nostalgia and childhood memories—many know it as the place their mothers used to shop. Since the beginning\, Cross Keys has served as an escape from the bustle of Baltimore\, a tucked-away community off of I-83 that offers elevated shopping\, dining\, and family experiences for city and county residents alike. \nThe property was acquired by Baltimore-based Caves Valley Partners in July 2020.  Since then\, Cross Keys has undergone major renovations to modernize its appearance and functionality and it is actively undergoing a comprehensive redevelopment\, which will include the addition of over 300 apartments and new retail and office buildings. \nJoin us to view the refreshed and revitalized Cross Keys\, learn about the new restaurant and retail businesses\, and hear more about future developments. Following the tour\, stay for a reception with food and drinks provided by our generous event sponsor.
URL:https://baltimorearchitecturefoundation.org/event/cross-keys-redevelopment-tour/
CATEGORIES:Tours
ATTACH;FMTTYPE=image/png:https://baltimorearchitecturefoundation.org/wp-content/uploads/2024/05/rendering-01-atlas-at-cross-keys.png
END:VEVENT
END:VCALENDAR