BEGIN:VCALENDAR
VERSION:2.0
PRODID:-//AIA Baltimore/Baltimore Architecture Foundation - ECPv5.14.1//NONSGML v1.0//EN
CALSCALE:GREGORIAN
METHOD:PUBLISH
X-WR-CALNAME:AIA Baltimore/Baltimore Architecture Foundation
X-ORIGINAL-URL:https://baltimorearchitecturefoundation.org
X-WR-CALDESC:Events for AIA Baltimore/Baltimore Architecture Foundation
REFRESH-INTERVAL;VALUE=DURATION:PT1H
X-Robots-Tag:noindex
X-PUBLISHED-TTL:PT1H
BEGIN:VTIMEZONE
TZID:America/New_York
BEGIN:DAYLIGHT
TZOFFSETFROM:-0500
TZOFFSETTO:-0400
TZNAME:EDT
DTSTART:20220313T070000
END:DAYLIGHT
BEGIN:STANDARD
TZOFFSETFROM:-0400
TZOFFSETTO:-0500
TZNAME:EST
DTSTART:20221106T060000
END:STANDARD
END:VTIMEZONE
BEGIN:VEVENT
DTSTART;TZID=America/New_York:20220127T080000
DTEND;TZID=America/New_York:20220127T170000
DTSTAMP:20260424T133933
CREATED:20220127T172946Z
LAST-MODIFIED:20220127T173044Z
UID:29381-1643270400-1643302800@baltimorearchitecturefoundation.org
SUMMARY:ESCALATING EXCELLENCE: A 5-part Framework for Quality Management
DESCRIPTION:1 LU Pending \nA firm’s reputation is directly linked to the quality of its work. People are at the heart of engineering designs and have a lot to offer beyond the typical technical knowledge. The topic is concentrated on leading technical improvements to the design processes\, providing participants a perspective on a framework they can immediately implement at their firm. It offers a focus on shattering dysfunctional and unproductive routines and seeks to cultivate opportunities to leverage the unique experiences\, knowledge\, and perspectives from each person on your team resulting in a higher quality deliverable that can reduce headaches and increase profits. \nLearning Objectives: \n• Describe the G.R.E.A.T. framework for implementing quality reviews of project deliverables. \n• Recognize tactics and opportunities to leverage staff experiences in new and empowering ways. \n• Explain the different team roles and responsibilities for successful oversight programs. \n• Apply fundamental problem solving thoughts to convert ordinary experiences into valuable learning opportunties \nAbout Our Speaker: \nBrian Wagner\, P.E. is an engineer who specializes in civil site design and plan implementation. In addition to a career spanning nearly two decades of civil engineering\, he has experience in Emergency 911 Communications\, law enforcement corrections\, and fire/rescue services including K9 Search and Rescue. This different and diverse range of experiences has prepared Brian for his career\, but also positioned him to be an excellent speaker with a wide range of valuable experiences. He strives to motivate others to change their world and wants to do the same for you and your organization. \nREGISTER HERE
URL:https://baltimorearchitecturefoundation.org/event/escalating-excellence-a-5-part-framework-for-quality-management/
CATEGORIES:Webinars
ATTACH;FMTTYPE=image/png:https://baltimorearchitecturefoundation.org/wp-content/uploads/2022/01/March-15-program.png
END:VEVENT
END:VCALENDAR