BEGIN:VCALENDAR
VERSION:2.0
PRODID:-//AIA Baltimore/Baltimore Architecture Foundation - ECPv5.14.1//NONSGML v1.0//EN
CALSCALE:GREGORIAN
METHOD:PUBLISH
X-WR-CALNAME:AIA Baltimore/Baltimore Architecture Foundation
X-ORIGINAL-URL:https://baltimorearchitecturefoundation.org
X-WR-CALDESC:Events for AIA Baltimore/Baltimore Architecture Foundation
REFRESH-INTERVAL;VALUE=DURATION:PT1H
X-Robots-Tag:noindex
X-PUBLISHED-TTL:PT1H
BEGIN:VTIMEZONE
TZID:America/New_York
BEGIN:DAYLIGHT
TZOFFSETFROM:-0500
TZOFFSETTO:-0400
TZNAME:EDT
DTSTART:20240310T070000
END:DAYLIGHT
BEGIN:STANDARD
TZOFFSETFROM:-0400
TZOFFSETTO:-0500
TZNAME:EST
DTSTART:20241103T060000
END:STANDARD
END:VTIMEZONE
BEGIN:VEVENT
DTSTART;TZID=America/New_York:20240423T170000
DTEND;TZID=America/New_York:20240423T180000
DTSTAMP:20260423T200023
CREATED:20240306T204943Z
LAST-MODIFIED:20240306T204943Z
UID:33135-1713891600-1713895200@baltimorearchitecturefoundation.org
SUMMARY:Maryland Club Tour
DESCRIPTION:The Maryland Club formed in 1857\, when workboats\, sailing ships\, and steamboats jammed Baltimore harbor. Political parties frequently met here to nominate candidates for President\, and citizens proudly referred to the place as “the monumental city.” After the Civil War\, as the club flourished\, and the city expanded northward\, the governors purchased a vacant lot on the southeast corner of Charles and Eager streets and made plans for a new club house. The lead architect\, Josias Pennington of the local firm Baldwin and Pennington\, had much experience designing B&O Railroad stations. His Romanesque building in the style of Henry Hobson Richardson made heavy use of Baltimore-County white marble and formally opened on New Year’s Day\, 1892. \nThe tour will offer a rare chance to see inside the historic Maryland Club. After a disastrous fire in 1995\, club leadership elected not simply to repair the Eager Street building but to restore it– refinishing floors and paneling\, repainting walls\, and rethinking the arrangement of prints\, paintings\, and trophies.  Just off the main foyer you will discover the former lounge area that was transformed into a casual restaurant and bar area\, thoughtfully designed by SM+P Architects with curated art selections from the club’s existing collections. In addition\, the tour will include the 2018 modern addition to the club that contain its world class squash and fitness facilities\, locker/shower rooms\, and pro shop. \nRegister here to join the tour.
URL:https://baltimorearchitecturefoundation.org/event/maryland-club-tour/
CATEGORIES:Tours
ATTACH;FMTTYPE=image/jpeg:https://baltimorearchitecturefoundation.org/wp-content/uploads/2024/03/MD-Club-Grill_08.jpg
END:VEVENT
END:VCALENDAR