BEGIN:VCALENDAR
VERSION:2.0
PRODID:-//AIA Baltimore/Baltimore Architecture Foundation - ECPv5.14.1//NONSGML v1.0//EN
CALSCALE:GREGORIAN
METHOD:PUBLISH
X-WR-CALNAME:AIA Baltimore/Baltimore Architecture Foundation
X-ORIGINAL-URL:https://baltimorearchitecturefoundation.org
X-WR-CALDESC:Events for AIA Baltimore/Baltimore Architecture Foundation
REFRESH-INTERVAL;VALUE=DURATION:PT1H
X-Robots-Tag:noindex
X-PUBLISHED-TTL:PT1H
BEGIN:VTIMEZONE
TZID:America/New_York
BEGIN:DAYLIGHT
TZOFFSETFROM:-0500
TZOFFSETTO:-0400
TZNAME:EDT
DTSTART:20240310T070000
END:DAYLIGHT
BEGIN:STANDARD
TZOFFSETFROM:-0400
TZOFFSETTO:-0500
TZNAME:EST
DTSTART:20241103T060000
END:STANDARD
END:VTIMEZONE
BEGIN:VEVENT
DTSTART;TZID=America/New_York:20240515T100000
DTEND;TZID=America/New_York:20240515T113000
DTSTAMP:20260423T202454
CREATED:20240502T165917Z
LAST-MODIFIED:20240508T172213Z
UID:33423-1715767200-1715772600@baltimorearchitecturefoundation.org
SUMMARY:MD Rehabilitation Code and IEBC Training
DESCRIPTION:Scan the QR code in the flyer below or visit this link to sign up. \nAIA CES 1.5 LU|HSW approved for live viewers.\n \nScan the QR code in the flyer above or visit this link to sign up. There is no charge for this training.
URL:https://baltimorearchitecturefoundation.org/event/md-rehabilitation-code-and-iebc-training/
CATEGORIES:Continuing Education,Partner Programs
ATTACH;FMTTYPE=image/jpeg:https://baltimorearchitecturefoundation.org/wp-content/uploads/2024/05/IEBC-program.jpg
END:VEVENT
END:VCALENDAR