BEGIN:VCALENDAR
VERSION:2.0
PRODID:-//AIA Baltimore/Baltimore Architecture Foundation - ECPv5.14.1//NONSGML v1.0//EN
CALSCALE:GREGORIAN
METHOD:PUBLISH
X-WR-CALNAME:AIA Baltimore/Baltimore Architecture Foundation
X-ORIGINAL-URL:https://baltimorearchitecturefoundation.org
X-WR-CALDESC:Events for AIA Baltimore/Baltimore Architecture Foundation
REFRESH-INTERVAL;VALUE=DURATION:PT1H
X-Robots-Tag:noindex
X-PUBLISHED-TTL:PT1H
BEGIN:VTIMEZONE
TZID:America/New_York
BEGIN:DAYLIGHT
TZOFFSETFROM:-0500
TZOFFSETTO:-0400
TZNAME:EDT
DTSTART:20240310T070000
END:DAYLIGHT
BEGIN:STANDARD
TZOFFSETFROM:-0400
TZOFFSETTO:-0500
TZNAME:EST
DTSTART:20241103T060000
END:STANDARD
END:VTIMEZONE
BEGIN:VEVENT
DTSTART;TZID=America/New_York:20240425T180000
DTEND;TZID=America/New_York:20240425T200000
DTSTAMP:20260423T194606
CREATED:20240314T205905Z
LAST-MODIFIED:20240403T145506Z
UID:33189-1714068000-1714075200@baltimorearchitecturefoundation.org
SUMMARY:Spring Lecture Series: Design Mode: ON with PI.KL Studio
DESCRIPTION:[REGISTER HERE]\nAIA Baltimore and Baltimore Architecture Foundation presents the 2024 Spring Lecture Series\, taking place on 4/04\, 4/10\, 4/17 and 4/25 at the MICA Brown Center. \nThis lecture offers 1.0 AIA LU and 1.0 LACES PDH. \nAIA\, ASLA and NOMA members may register at a discounted rate. \nWe are offering school students\, faculty and staff free admission! Please bring your school ID to show upon arrival. \nJoin us on April 25 at 6:00 PM for Design Mode: ON with Pavlina Ilieva\, AIA and Courtney Richeson of PI.KL Studio. \nRegistration begins at 5:00PM. Join us for a reception at The Brass Tap immediately following the lecture! There will be apps\, open bar for the first hour\, and specialty cocktails available!  \n\nABOUT THIS LECTURE \nThis presentation explores the continuous evolution of community projects through the implementation of a nimble design process\, from conception through construction\, for the seamless integration of functional\, social\, environmental\, and aesthetic goals. \nCommunity-centered projects often involve a dynamic program of multiple entities co-existing under the same roof\, strong emphasis on equitable spaces and environmental responsibility intensive constituent and regulatory review processes\, and limited budgets. To achieve the desired community impact\, small firms must find efficiencies within their workflow and employ clear\, attractive\, and informative drawings and documents that reach varied audiences through the life of the project. This presentation explores the continuous evolution of community projects through the implementation of a nimble design process\, from conception through construction\, for the seamless integration of functional\, social\, environmental\, and aesthetic goals. \nABOUT THE SPEAKERS \nPAVLINA ILIEVA\, AIA\nPI.KL Studio\, Design Principal \nPavlina Ilieva\, AIA is Principal and Co-founder of PI.KL Studio – an award-winning practice that spans across the commercial hospitality\, workplace and urban housing scales as well as varied community-based and open space projects for non-profit organizations\, private and local government entities. Pavlina serves as Chair of the Urban Design and Architecture Advisory Panel (UDAAP) for the Baltimore City Department of Planning\, which provides design review for significant projects and master plans throughout the city. \nCOURTNEY RICHESON\nPI.KL Studio\, Architect and Design Lead \nCourtney Richeson is a licensed architect and design lead at PI.KL Studio\, based in Baltimore\, Maryland. In her 4 years with PI.KL Studio\, she has led several award winning projects for non-profits and community focused organizations. She received a Master’s in Architecture from Harvard University Graduate School of Design and a Bachelor’s in Architecture from North Carolina State University.
URL:https://baltimorearchitecturefoundation.org/event/spring-lecture-series-design-mode-on-with-pi-kl-studio/
LOCATION:MICA Brown Center\, 1301 W Mt Royal Ave\, Baltimore\, MD\, 21217\, United States
CATEGORIES:Amplifying Innovation
ATTACH;FMTTYPE=image/png:https://baltimorearchitecturefoundation.org/wp-content/uploads/2024/03/topic-Presentation-3.png
END:VEVENT
END:VCALENDAR