BEGIN:VCALENDAR
VERSION:2.0
PRODID:-//AIA Baltimore/Baltimore Architecture Foundation - ECPv5.14.1//NONSGML v1.0//EN
CALSCALE:GREGORIAN
METHOD:PUBLISH
X-WR-CALNAME:AIA Baltimore/Baltimore Architecture Foundation
X-ORIGINAL-URL:https://baltimorearchitecturefoundation.org
X-WR-CALDESC:Events for AIA Baltimore/Baltimore Architecture Foundation
REFRESH-INTERVAL;VALUE=DURATION:PT1H
X-Robots-Tag:noindex
X-PUBLISHED-TTL:PT1H
BEGIN:VTIMEZONE
TZID:America/New_York
BEGIN:DAYLIGHT
TZOFFSETFROM:-0500
TZOFFSETTO:-0400
TZNAME:EDT
DTSTART:20200308T070000
END:DAYLIGHT
BEGIN:STANDARD
TZOFFSETFROM:-0400
TZOFFSETTO:-0500
TZNAME:EST
DTSTART:20201101T060000
END:STANDARD
END:VTIMEZONE
BEGIN:VEVENT
DTSTART;TZID=America/New_York:20200929T120000
DTEND;TZID=America/New_York:20200929T130000
DTSTAMP:20260425T220758
CREATED:20200915T153019Z
LAST-MODIFIED:20200915T153019Z
UID:23706-1601380800-1601384400@baltimorearchitecturefoundation.org
SUMMARY:System Source Pizza Webinar – “Boosting Network Performance & Security” (System Source)
DESCRIPTION:Tue\, Sep 29\, 2020 12:00 PM – 1:00 PM EDT \nSystem Source & Barracuda invite you to a free pizza lunch & live webinar on “Boosting Network Performance and Security with Barracuda SD-WAN” for IT Directors\, CTOs\, managers\, and staff. We’ll deliver pizza to your home or office to enjoy during this webinar! Brian Whatley\, System Source Senior Consultant\, and a Barracuda solutions architect\, will discuss: • Replacing costly MPLS and connecting through headquarters • Securely interconnect and control headquarters\, branches and remote users • Integrating new locations\, acquisitions and mobile sites • How adopting SaaS solutions & public cloud changes your security & network needs • Application-aware QoS • Optionally integrate SD-WAN with firewalls • Gaining load balanced and redundant site-to-site and site-to-cloud connectivity across WAN connections of any type \nThis delicious webinar is Tuesday\, September 29th from Noon – 1.
URL:https://baltimorearchitecturefoundation.org/event/system-source-pizza-webinar-boosting-network-performance-security-system-source/
CATEGORIES:Partner Programs
END:VEVENT
END:VCALENDAR