BEGIN:VCALENDAR
VERSION:2.0
PRODID:-//AIA Baltimore/Baltimore Architecture Foundation - ECPv5.14.1//NONSGML v1.0//EN
CALSCALE:GREGORIAN
METHOD:PUBLISH
X-WR-CALNAME:AIA Baltimore/Baltimore Architecture Foundation
X-ORIGINAL-URL:https://baltimorearchitecturefoundation.org
X-WR-CALDESC:Events for AIA Baltimore/Baltimore Architecture Foundation
REFRESH-INTERVAL;VALUE=DURATION:PT1H
X-Robots-Tag:noindex
X-PUBLISHED-TTL:PT1H
BEGIN:VTIMEZONE
TZID:America/New_York
BEGIN:DAYLIGHT
TZOFFSETFROM:-0500
TZOFFSETTO:-0400
TZNAME:EDT
DTSTART:20210314T070000
END:DAYLIGHT
BEGIN:STANDARD
TZOFFSETFROM:-0400
TZOFFSETTO:-0500
TZNAME:EST
DTSTART:20211107T060000
END:STANDARD
END:VTIMEZONE
BEGIN:VEVENT
DTSTART;TZID=America/New_York:20210729T120000
DTEND;TZID=America/New_York:20210729T130000
DTSTAMP:20260424T211805
CREATED:20210630T195106Z
LAST-MODIFIED:20210727T154821Z
UID:27919-1627560000-1627563600@baltimorearchitecturefoundation.org
SUMMARY:The 21st Annual Employment Webinar (Terrence M. McShane\, Esquire)
DESCRIPTION:1.o AIA LU available  \nThis course is the 21st Annual Employment Seminar/Webinar covering developments in Employment law over the past year from the Civil Rights Act of 1964 and the ADA to Workplace Violence\, Sexual Harassment and COVID-19 in the Workplace. Attendees will learn how their firms can better manage their risk to avoid employment disputes. Please join us! \nREGISTER HERE
URL:https://baltimorearchitecturefoundation.org/event/the-21st-annual-employment-webinar-terrence-m-mcshane-esquire/
CATEGORIES:Continuing Education,Partner Programs
END:VEVENT
END:VCALENDAR