BEGIN:VCALENDAR
VERSION:2.0
PRODID:-//AIA Baltimore/Baltimore Architecture Foundation - ECPv5.14.1//NONSGML v1.0//EN
CALSCALE:GREGORIAN
METHOD:PUBLISH
X-WR-CALNAME:AIA Baltimore/Baltimore Architecture Foundation
X-ORIGINAL-URL:https://baltimorearchitecturefoundation.org
X-WR-CALDESC:Events for AIA Baltimore/Baltimore Architecture Foundation
REFRESH-INTERVAL;VALUE=DURATION:PT1H
X-Robots-Tag:noindex
X-PUBLISHED-TTL:PT1H
BEGIN:VTIMEZONE
TZID:America/New_York
BEGIN:DAYLIGHT
TZOFFSETFROM:-0500
TZOFFSETTO:-0400
TZNAME:EDT
DTSTART:20200308T070000
END:DAYLIGHT
BEGIN:STANDARD
TZOFFSETFROM:-0400
TZOFFSETTO:-0500
TZNAME:EST
DTSTART:20201101T060000
END:STANDARD
END:VTIMEZONE
BEGIN:VEVENT
DTSTART;TZID=America/New_York:20200902T160000
DTEND;TZID=America/New_York:20200902T170000
DTSTAMP:20260425T235837
CREATED:20200730T150111Z
LAST-MODIFIED:20200827T131610Z
UID:23224-1599062400-1599066000@baltimorearchitecturefoundation.org
SUMMARY:USGBC Maryland and AIA Baltimore Virtual Happy Hour
DESCRIPTION:Join USGBC Maryland and AIA Baltimore for a virtual happy hour to chat and connect with new contacts from our respective communities! \nJoin fellow architects and sustainability advocates from across Maryland for an online happy hour on Wednesday\, August 19th at 4PM! Attendees will have the opportunity to connect and discuss their green interests by visiting virtual networking break-out rooms. Room topics will include: \n\nBaltimore IgCC Code Updates\nEnergy Efficiency/Net Zero Energy\nHVAC in the Age of COVID-19\nGreen and Efficient Schools\nCommercial building fenestration & occupant well-being\n\nGrab your favorite drink\, and get ready for an early evening Happy Hour to meet new friends and catch up with old ones! \nCost: \nGeneral Admission is $10\, free for USGBC Community Members and AIA Baltimore Members. \nPlease note: Ticket refunds can be issued up to a week before this event. Seven days or less\, we will provide a refund but a 25% service fee will be withheld. Day of the event we will not provide a refund. \nRegister Now
URL:https://baltimorearchitecturefoundation.org/event/usgbc-maryland-and-aia-baltimore-virtual-happy-hour/
CATEGORIES:Networking
ATTACH;FMTTYPE=image/jpeg:https://baltimorearchitecturefoundation.org/wp-content/uploads/2020/07/https___cdn.evbuc_.com_images_106652062_209030468989_1_original.jpg
END:VEVENT
END:VCALENDAR