BEGIN:VCALENDAR
VERSION:2.0
PRODID:-//AIA Baltimore/Baltimore Architecture Foundation - ECPv5.14.1//NONSGML v1.0//EN
CALSCALE:GREGORIAN
METHOD:PUBLISH
X-WR-CALNAME:AIA Baltimore/Baltimore Architecture Foundation
X-ORIGINAL-URL:https://baltimorearchitecturefoundation.org
X-WR-CALDESC:Events for AIA Baltimore/Baltimore Architecture Foundation
REFRESH-INTERVAL;VALUE=DURATION:PT1H
X-Robots-Tag:noindex
X-PUBLISHED-TTL:PT1H
BEGIN:VTIMEZONE
TZID:America/New_York
BEGIN:DAYLIGHT
TZOFFSETFROM:-0500
TZOFFSETTO:-0400
TZNAME:EDT
DTSTART:20220313T070000
END:DAYLIGHT
BEGIN:STANDARD
TZOFFSETFROM:-0400
TZOFFSETTO:-0500
TZNAME:EST
DTSTART:20221106T060000
END:STANDARD
END:VTIMEZONE
BEGIN:VEVENT
DTSTART;TZID=America/New_York:20220316T110000
DTEND;TZID=America/New_York:20220316T123000
DTSTAMP:20260424T122029
CREATED:20220307T201813Z
LAST-MODIFIED:20220307T201813Z
UID:29508-1647428400-1647433800@baltimorearchitecturefoundation.org
SUMMARY:USGBC Maryland Green Schools: Sustainability\, Equity\, Community
DESCRIPTION:Maryland is a leader in the green schools movement\, with over 130 high performance\, LEED certified schools across the state. Join USGBC Maryland for a Green Schools Thought Leadership Panel that takes a holistic approach in examining how sustainability goals overlap with and further mission-based school district priorities around equity\, health\, student learning and community support. \nThe panel will kick off with remarks from Baltimore NOMA on the interconnection between equity and sustainability in the green schools space. We will then hear from representatives from a diverse set of Maryland public school systems\, including urban\, suburban and rural districts of varying size and resources\, that have all made ambitious commitments to building and operating sustainable learning facilities. These panelists will share their district’s experiences working with green schools\, including schools pursuing LEED certification. They will discuss how sustainable schools have impacted their communities\, with a focus on how we can create spaces where all students and staff can thrive that also serve as a resource for families and neighborhoods. \nFeatured Speakers: \n\nAdnan Mamoon\, Director of Capital Programs\, Frederick County Public Schools\nJoanna Pi-Sunyer\, Sustainability Analyst\, Baltimore City Public Schools\nNakita Reed\, Associate\, Quinn Evans\, Baltimore NOMA Representative\, & Vice President\, Baltimore Architecture Foundation\nShuchita Warner\, Director of School Construction\, Calvert County Schools\nLisa Ferretto\, Sustainability Director\, Principal\, Architect\, Hord Coplan Macht (moderator)\n\nREGISTER HERE
URL:https://baltimorearchitecturefoundation.org/event/usgbc-maryland-green-schools-sustainability-equity-community/
CATEGORIES:Partner Programs
END:VEVENT
END:VCALENDAR