BEGIN:VCALENDAR
VERSION:2.0
PRODID:-//AIA Baltimore/Baltimore Architecture Foundation - ECPv5.14.1//NONSGML v1.0//EN
CALSCALE:GREGORIAN
METHOD:PUBLISH
X-WR-CALNAME:AIA Baltimore/Baltimore Architecture Foundation
X-ORIGINAL-URL:https://baltimorearchitecturefoundation.org
X-WR-CALDESC:Events for AIA Baltimore/Baltimore Architecture Foundation
REFRESH-INTERVAL;VALUE=DURATION:PT1H
X-Robots-Tag:noindex
X-PUBLISHED-TTL:PT1H
BEGIN:VTIMEZONE
TZID:America/New_York
BEGIN:DAYLIGHT
TZOFFSETFROM:-0500
TZOFFSETTO:-0400
TZNAME:EDT
DTSTART:20200308T070000
END:DAYLIGHT
BEGIN:STANDARD
TZOFFSETFROM:-0400
TZOFFSETTO:-0500
TZNAME:EST
DTSTART:20201101T060000
END:STANDARD
END:VTIMEZONE
BEGIN:VEVENT
DTSTART;TZID=America/New_York:20201003T130000
DTEND;TZID=America/New_York:20201003T133000
DTSTAMP:20260425T221420
CREATED:20200916T210542Z
LAST-MODIFIED:20200916T210542Z
UID:23720-1601730000-1601731800@baltimorearchitecturefoundation.org
SUMMARY:Virtual Historic West Baltimore Tour
DESCRIPTION:Presented as part of Doors Open Baltimore 2020 African American Heritage & Civil Rights Week\n\n\n\nThis program is hosted on Zoom and Facebook Live. Upon registering you will receive an email confirmation and a Zoom link. If you do not receive a link\, please contact ndennies@aiabalt.com. If you do not contact us at least 1 hour prior to the start of the program\, we cannot guarantee admittance. \nThe tour will explore Baltimore’s historic African American neighborhood. Visitors will learn about Baltimore’s civil rights and women’s suffrage legacy\, visit a rich tapestry of residential and church architecture\, and learn about Pennsylvania Avenue’s special place in history as one of the nation’s premier African American entertainment districts. \nThe tour will also include a brief visit to Baltimore’s beautiful Bolton Hill neighborhood and the impressive Francis Scott Key statue and learn about the history of the Prince Hall Masons. \nBradley Alston is an award-winning Urban Ranger and Baltimore history tour guide. \nPhoto courtesy Vivian Marie Doering \nTickets are donation based. We encourage you to give what you can to support BAF. Your support helps us make up for lost tour and program revenue from COVID-19 and create more virtual programs like this. \nLearn more about Doors Open Baltimore 2020
URL:https://baltimorearchitecturefoundation.org/event/virtual-historic-west-baltimore-tour/
CATEGORIES:Tours,Webinars
ATTACH;FMTTYPE=image/jpeg:https://baltimorearchitecturefoundation.org/wp-content/uploads/2020/09/aba02d30efc7bc2b239528df3798eb6c-lbCWiT.tmp_.jpg
END:VEVENT
END:VCALENDAR