BEGIN:VCALENDAR
VERSION:2.0
PRODID:-//AIA Baltimore/Baltimore Architecture Foundation - ECPv5.14.1//NONSGML v1.0//EN
CALSCALE:GREGORIAN
METHOD:PUBLISH
X-WR-CALNAME:AIA Baltimore/Baltimore Architecture Foundation
X-ORIGINAL-URL:https://baltimorearchitecturefoundation.org
X-WR-CALDESC:Events for AIA Baltimore/Baltimore Architecture Foundation
REFRESH-INTERVAL;VALUE=DURATION:PT1H
X-Robots-Tag:noindex
X-PUBLISHED-TTL:PT1H
BEGIN:VTIMEZONE
TZID:America/New_York
BEGIN:DAYLIGHT
TZOFFSETFROM:-0500
TZOFFSETTO:-0400
TZNAME:EDT
DTSTART:20200308T070000
END:DAYLIGHT
BEGIN:STANDARD
TZOFFSETFROM:-0400
TZOFFSETTO:-0500
TZNAME:EST
DTSTART:20201101T060000
END:STANDARD
END:VTIMEZONE
BEGIN:VEVENT
DTSTART;TZID=America/New_York:20201028T120000
DTEND;TZID=America/New_York:20201028T123000
DTSTAMP:20260425T162750
CREATED:20200917T150741Z
LAST-MODIFIED:20200917T150741Z
UID:23783-1603886400-1603888200@baltimorearchitecturefoundation.org
SUMMARY:Westminster Hall: Where Baltimore’s History Rests in Peace
DESCRIPTION:Presented as part of Doors Open Baltimore 2020 Spiritual Week\n\n\n\nThis program is hosted on Zoom and Facebook Live. Upon registering you will receive an email confirmation and a Zoom link. If you do not receive a link\, please contact ndennies@aiabalt.com. If you do not contact us at least 1 hour prior to the start of the program\, we cannot guarantee admittance. \nPeople travel far and wide to visit historic Westminster Hall\, the Burying Grounds and Catacombs. \nWestminster contains one of Baltimore’s oldest cemeteries which contains tombs of prominent political\, military and business leaders\, four of the city’s earliest mayors\, several generals from the American Revolution and War of 1812 and the grave of Edgar Allan Poe!  In 1852\, the church was constructed on brick piers above the graves\, creating remarkable catacombs. Architect Maximilian Godefroy designed the ornate gates and vaults for several wealthier church members. \nThis event has been organized by the Baltimore Architecture Foundation and the University of Maryland Francis King Carey School of Law.Learn more about Doors Open Baltimore 2020.
URL:https://baltimorearchitecturefoundation.org/event/westminster-hall-where-baltimores-history-rests-in-peace/
CATEGORIES:Tours,Webinars
ATTACH;FMTTYPE=image/jpeg:https://baltimorearchitecturefoundation.org/wp-content/uploads/2020/09/a6cc0fe85e1c9df7f0d67dea34fd3502-0A3cJ5.tmp_.jpg
END:VEVENT
END:VCALENDAR